BEGIN:VCALENDAR
VERSION:2.0
PRODID:-//Tukios.com/
BEGIN:VEVENT
UID:6f2d9ee4-614b-424d-ba49-381ef0f0b676@www.geibfuneral.com
DTSTAMP:20260421T191350Z
DTSTART:20260423T180000Z
DTEND:20260423T190000Z
SUMMARY:Funeral Service
DESCRIPTION:
URL:https://www.geibfuneral.com/obituaries/wilda-bowers
LOCATION:Geib Funeral Center at Dover 5600 N. Wooster Ave.  Dover OH 
	44622
GEO:40.5628815;-81.4984987
END:VEVENT
END:VCALENDAR