BEGIN:VCALENDAR
VERSION:2.0
PRODID:-//Tukios.com/
BEGIN:VEVENT
UID:252bbc14-e9de-45b2-93c8-a3c52502e8a9@www.geibfuneral.com
DTSTAMP:20260421T191702Z
DTSTART:20260423T184500Z
DTEND:20260423T194500Z
SUMMARY:Burial
DESCRIPTION:
URL:https://www.geibfuneral.com/obituaries/wilda-bowers
LOCATION: 5651 N Wooster Ave  Dover OH 44622
GEO:40.5634103;-81.4957076
END:VEVENT
END:VCALENDAR