BEGIN:VCALENDAR
VERSION:2.0
PRODID:-//Tukios.com/
BEGIN:VEVENT
UID:71df9b24-6c77-4f80-9a2f-a31249656582@www.geibfuneral.com
DTSTAMP:20260421T190816Z
DTSTART:20260423T160000Z
DTEND:20260423T180000Z
SUMMARY:Visitation
DESCRIPTION:
URL:https://www.geibfuneral.com/obituaries/wilda-bowers
LOCATION:Geib Funeral Center at Dover 5600 N. Wooster Ave.  Dover OH 
	44622
GEO:40.5628815;-81.4984987
END:VEVENT
END:VCALENDAR