BEGIN:VCALENDAR
VERSION:2.0
PRODID:-//Tukios.com/
BEGIN:VEVENT
UID:6ca8b832-a6ba-46cb-adb9-03e2a0126703@www.geibfuneral.com
DTSTAMP:20260423T084954Z
DTSTART:20260425T153000Z
DTEND:20260425T163000Z
SUMMARY:Burial
DESCRIPTION:
URL:https://www.geibfuneral.com/obituaries/thomas-vesco
LOCATION:Calvary Cemetery Delaware Dr.  New Philadelphia OH 44663
GEO:40.4729173;-81.4241577
END:VEVENT
END:VCALENDAR