BEGIN:VCALENDAR
VERSION:2.0
PRODID:-//Tukios.com/
BEGIN:VEVENT
UID:4e5bedf8-51bd-4702-a541-4fb6ba3f5efc@www.geibfuneral.com
DTSTAMP:20260421T105159Z
DTSTART:20260425T150000Z
DTEND:20260425T160000Z
SUMMARY:Funeral Service
DESCRIPTION:
URL:https://www.geibfuneral.com/obituaries/thomas-vesco
LOCATION:Linn-Hert Geib Funeral Home & Crematory - New Philadelphia 116 
	2nd St. NE  New Philadelphia OH 44663
GEO:40.4898542;-81.4436065
END:VEVENT
END:VCALENDAR