BEGIN:VCALENDAR
VERSION:2.0
PRODID:-//Tukios.com/
BEGIN:VEVENT
UID:0c9e8caf-f611-4f21-9b6e-4c0b8b69a18d@www.geibfuneral.com
DTSTAMP:20260421T104616Z
DTSTART:20260425T140000Z
DTEND:20260425T150000Z
SUMMARY:Visitation
DESCRIPTION:
URL:https://www.geibfuneral.com/obituaries/thomas-vesco
LOCATION:Linn-Hert Geib Funeral Home & Crematory - New Philadelphia 116 
	2nd St. NE  New Philadelphia OH 44663
GEO:40.4898542;-81.4436065
END:VEVENT
END:VCALENDAR