BEGIN:VCALENDAR
VERSION:2.0
PRODID:-//Tukios.com/
BEGIN:VEVENT
UID:021046b5-a70e-4cfa-8fb4-3f10ae014c7c@www.geibfuneral.com
DTSTAMP:20260421T091943Z
DTSTART:20260309T143000Z
DTEND:20260309T160000Z
SUMMARY:Wake Dinner
DESCRIPTION:
URL:https://www.geibfuneral.com/obituaries/priscilla-johnson
LOCATION: 161 Tuscora Ave NW  New Philadelphia OH 44663
GEO:40.5006911;-81.4444219
END:VEVENT
END:VCALENDAR