BEGIN:VCALENDAR
VERSION:2.0
PRODID:-//Tukios.com/
BEGIN:VEVENT
UID:34d448ad-03bc-4f6f-841b-4b272639e4a7@www.geibfuneral.com
DTSTAMP:20260420T233952Z
DTSTART:20260425T200000Z
DTEND:20260425T210000Z
SUMMARY:Memorial Service
DESCRIPTION:
URL:https://www.geibfuneral.com/obituaries/mary-lou-metzger
LOCATION:Linn-Hert-Geib Funeral Home & Crematory 116 2nd St NE  New 
	Philadelphia OH 44663
GEO:40.4898542;-81.4436065
END:VEVENT
END:VCALENDAR