BEGIN:VCALENDAR
VERSION:2.0
PRODID:-//Tukios.com/
BEGIN:VEVENT
UID:fec10c17-33fa-488a-a32b-042786b261b5@www.geibfuneral.com
DTSTAMP:20260420T233756Z
DTSTART:20260425T190000Z
DTEND:20260425T200000Z
SUMMARY:Visitation
DESCRIPTION:
URL:https://www.geibfuneral.com/obituaries/mary-lou-metzger
LOCATION:Linn-Hert-Geib Funeral Home & Crematory 116 2nd St NE  New 
	Philadelphia OH 44663
GEO:40.4898542;-81.4436065
END:VEVENT
END:VCALENDAR