BEGIN:VCALENDAR
VERSION:2.0
PRODID:-//Tukios.com/
BEGIN:VEVENT
UID:596d9994-cc17-4bc5-abb9-e9a0f7212dc5@www.geibfuneral.com
DTSTAMP:20260421T105159Z
DTSTART:20260421T160000Z
DTEND:20260421T180000Z
SUMMARY:Funeral Meal
DESCRIPTION:
URL:https://www.geibfuneral.com/obituaries/ida-walker
LOCATION:Roxford Church Family Life Center 661 Roxford Church Rd SE  
	Dennison OH 44621
GEO:40.4695311;-81.3116093
END:VEVENT
END:VCALENDAR