BEGIN:VCALENDAR
VERSION:2.0
PRODID:-//Tukios.com/
BEGIN:VEVENT
UID:c3161c8b-35ff-420a-ba45-096a2afdd4bf@www.geibfuneral.com
DTSTAMP:20260421T104946Z
DTSTART:20260421T143000Z
DTEND:20260421T153000Z
SUMMARY:Funeral Service
DESCRIPTION:
URL:https://www.geibfuneral.com/obituaries/ida-walker
LOCATION: 116 2nd St NE  New Philadelphia OH 44663
GEO:40.4898542;-81.4436065
END:VEVENT
END:VCALENDAR